BEGIN:VCALENDAR
VERSION:2.0
PRODID:-//Sit Happens - ECPv6.15.20//NONSGML v1.0//EN
CALSCALE:GREGORIAN
METHOD:PUBLISH
X-ORIGINAL-URL:https://lafayettedogtrainer.com
X-WR-CALDESC:Events for Sit Happens
REFRESH-INTERVAL;VALUE=DURATION:PT1H
X-Robots-Tag:noindex
X-PUBLISHED-TTL:PT1H
BEGIN:VTIMEZONE
TZID:America/Chicago
BEGIN:DAYLIGHT
TZOFFSETFROM:-0600
TZOFFSETTO:-0500
TZNAME:CDT
DTSTART:20250309T080000
END:DAYLIGHT
BEGIN:STANDARD
TZOFFSETFROM:-0500
TZOFFSETTO:-0600
TZNAME:CST
DTSTART:20251102T070000
END:STANDARD
BEGIN:DAYLIGHT
TZOFFSETFROM:-0600
TZOFFSETTO:-0500
TZNAME:CDT
DTSTART:20260308T080000
END:DAYLIGHT
BEGIN:STANDARD
TZOFFSETFROM:-0500
TZOFFSETTO:-0600
TZNAME:CST
DTSTART:20261101T070000
END:STANDARD
BEGIN:DAYLIGHT
TZOFFSETFROM:-0600
TZOFFSETTO:-0500
TZNAME:CDT
DTSTART:20270314T080000
END:DAYLIGHT
BEGIN:STANDARD
TZOFFSETFROM:-0500
TZOFFSETTO:-0600
TZNAME:CST
DTSTART:20271107T070000
END:STANDARD
END:VTIMEZONE
BEGIN:VEVENT
DTSTART;TZID=America/Chicago:20260629T183000
DTEND;TZID=America/Chicago:20260629T193000
DTSTAMP:20260421T103241
CREATED:20230306T014751Z
LAST-MODIFIED:20260404T214101Z
UID:6098-1782757800-1782761400@lafayettedogtrainer.com
SUMMARY:Puppy Class
DESCRIPTION:This is a 4 week course for puppies ages 10 weeks to 5 months of age. Class meets the same day and time each week for 4 weeks. Each class lasts approximately 1 hour. This class covers housetraining\, socialization\, problem solving for common puppy behavior problems such as jumping\, barking\, mouthing\, chewing\, and digging. Your puppy will learn eye contact\, sit\, down\, come\, stay\, leave it\, loose leash walking\, go to bed. The cost is $175/puppy. \nProof of current vaccinations given by a veterinarian\, a negative fecal\, and flea prevention are needed to attend class. Puppies need 2 rounds of vaccines given by a veterinarian. \nENROLL HERE
URL:https://lafayettedogtrainer.com/class/puppy-class-33/
LOCATION:Sit Happens Training Center\, 131 James Comeaux Rd\, Lafayette\, LA\, 70508\, United States
ATTACH;FMTTYPE=image/jpeg:https://lafayettedogtrainer.com/wp-content/uploads/2018/08/shutterstock_344417735-scaled.jpg
END:VEVENT
END:VCALENDAR