BEGIN:VCALENDAR
VERSION:2.0
PRODID:-//Sit Happens - ECPv6.15.20//NONSGML v1.0//EN
CALSCALE:GREGORIAN
METHOD:PUBLISH
X-ORIGINAL-URL:https://lafayettedogtrainer.com
X-WR-CALDESC:Events for Sit Happens
REFRESH-INTERVAL;VALUE=DURATION:PT1H
X-Robots-Tag:noindex
X-PUBLISHED-TTL:PT1H
BEGIN:VTIMEZONE
TZID:America/Chicago
BEGIN:DAYLIGHT
TZOFFSETFROM:-0600
TZOFFSETTO:-0500
TZNAME:CDT
DTSTART:20200308T080000
END:DAYLIGHT
BEGIN:STANDARD
TZOFFSETFROM:-0500
TZOFFSETTO:-0600
TZNAME:CST
DTSTART:20201101T070000
END:STANDARD
BEGIN:DAYLIGHT
TZOFFSETFROM:-0600
TZOFFSETTO:-0500
TZNAME:CDT
DTSTART:20210314T080000
END:DAYLIGHT
BEGIN:STANDARD
TZOFFSETFROM:-0500
TZOFFSETTO:-0600
TZNAME:CST
DTSTART:20211107T070000
END:STANDARD
BEGIN:DAYLIGHT
TZOFFSETFROM:-0600
TZOFFSETTO:-0500
TZNAME:CDT
DTSTART:20220313T080000
END:DAYLIGHT
BEGIN:STANDARD
TZOFFSETFROM:-0500
TZOFFSETTO:-0600
TZNAME:CST
DTSTART:20221106T070000
END:STANDARD
END:VTIMEZONE
BEGIN:VEVENT
DTSTART;TZID=America/Chicago:20210317T193000
DTEND;TZID=America/Chicago:20210317T203000
DTSTAMP:20260421T105126
CREATED:20180227T203926Z
LAST-MODIFIED:20210217T191849Z
UID:604-1616009400-1616013000@lafayettedogtrainer.com
SUMMARY:Puppy Social
DESCRIPTION:The American Veterinary society of Animal Behavior recommends early socialization to reduce the risk of developing lifelong fears\, phobias\, and aggression. \nPuppy socials are a great way to expose your puppies to different textures\, sounds\, handling skills\, and play in a controlled and safe environment. Puppy socials are open to puppies ages 10 weeks to 5 months. \nProof of 2 rounds of vaccinations given by a veterinarian\, a negative fecal\, and flea prevention are needed to attend class. \n  \nEnroll Here:https://lafayettedogtrainer.com/online-class-registration/
URL:https://lafayettedogtrainer.com/class/puppy-social/
LOCATION:Sit Happens Training Center\, 131 James Comeaux Rd\, Lafayette\, LA\, 70508\, United States
ATTACH;FMTTYPE=image/jpeg:https://lafayettedogtrainer.com/wp-content/uploads/2018/02/PUP_16_KH0006_01_P.jpg
END:VEVENT
END:VCALENDAR