BEGIN:VCALENDAR
VERSION:2.0
PRODID:-//Sit Happens - ECPv6.15.20//NONSGML v1.0//EN
CALSCALE:GREGORIAN
METHOD:PUBLISH
X-WR-CALNAME:Sit Happens
X-ORIGINAL-URL:https://lafayettedogtrainer.com
X-WR-CALDESC:Events for Sit Happens
REFRESH-INTERVAL;VALUE=DURATION:PT1H
X-Robots-Tag:noindex
X-PUBLISHED-TTL:PT1H
BEGIN:VTIMEZONE
TZID:America/Chicago
BEGIN:DAYLIGHT
TZOFFSETFROM:-0600
TZOFFSETTO:-0500
TZNAME:CDT
DTSTART:20210314T080000
END:DAYLIGHT
BEGIN:STANDARD
TZOFFSETFROM:-0500
TZOFFSETTO:-0600
TZNAME:CST
DTSTART:20211107T070000
END:STANDARD
BEGIN:DAYLIGHT
TZOFFSETFROM:-0600
TZOFFSETTO:-0500
TZNAME:CDT
DTSTART:20220313T080000
END:DAYLIGHT
BEGIN:STANDARD
TZOFFSETFROM:-0500
TZOFFSETTO:-0600
TZNAME:CST
DTSTART:20221106T070000
END:STANDARD
BEGIN:DAYLIGHT
TZOFFSETFROM:-0600
TZOFFSETTO:-0500
TZNAME:CDT
DTSTART:20230312T080000
END:DAYLIGHT
BEGIN:STANDARD
TZOFFSETFROM:-0500
TZOFFSETTO:-0600
TZNAME:CST
DTSTART:20231105T070000
END:STANDARD
END:VTIMEZONE
BEGIN:VEVENT
DTSTART;TZID=America/Chicago:20221108T183000
DTEND;TZID=America/Chicago:20221108T193000
DTSTAMP:20260420T155411
CREATED:20220902T144710Z
LAST-MODIFIED:20220912T233006Z
UID:5140-1667932200-1667935800@lafayettedogtrainer.com
SUMMARY:Puppy Class
DESCRIPTION:This is a 4 week course for puppies ages 10 weeks to 5 months of age. Class meets the same day and time each week for 4 weeks. Each class lasts approximately 1 hour. This class covers housetraining\, socialization\, problem solving for common puppy behavior problems such as jumping\, barking\, mouthing\, chewing\, and digging. Your puppy will learn eye contact\, sit\, down\, come\, stay\, leave it\, loose leash walking\, go to bed. The cost is $155/puppy. \nProof of current vaccinations given by a veterinarian\, a negative fecal\, and flea prevention are needed to attend class. Puppies need 2 rounds of vaccines given by a veterinarian. \nEnroll here:\nhttps://lafayettedogtrainer.com/online-class-registration/
URL:https://lafayettedogtrainer.com/class/puppy-class-24/
LOCATION:Sit Happens Training Center\, 131 James Comeaux Rd\, Lafayette\, LA\, 70508\, United States
ATTACH;FMTTYPE=image/jpeg:https://lafayettedogtrainer.com/wp-content/uploads/2018/02/shutterstock_1472163938-scaled.jpg
END:VEVENT
BEGIN:VEVENT
DTSTART;TZID=America/Chicago:20221117T193000
DTEND;TZID=America/Chicago:20221117T203000
DTSTAMP:20260420T155411
CREATED:20220902T145659Z
LAST-MODIFIED:20220902T203445Z
UID:5151-1668713400-1668717000@lafayettedogtrainer.com
SUMMARY:Puppy Play Time
DESCRIPTION:The American Veterinary Society of Animal Behavior recommends early socialization to reduce the risk of developing lifelong fears\, phobias\, and aggression. \nPuppy Play Time is a great way to expose your puppies to different textures\, sounds\, handling skills\, and play in a controlled and safe environment. Puppy Play Time is open to puppies ages 10 weeks to 5 months. The cost is $25/puppy. \nProof of current vaccinations given by a veterinarian\, a negative fecal\, and flea prevention are needed to attend class. Puppies need 2 rounds of vaccines given by a veterinarian. \nEnroll Here: https://lafayettedogtrainer.com/online-class-registration/
URL:https://lafayettedogtrainer.com/class/puppy-play-time-5/
LOCATION:Sit Happens Training Center\, 131 James Comeaux Rd\, Lafayette\, LA\, 70508\, United States
ATTACH;FMTTYPE=image/jpeg:https://lafayettedogtrainer.com/wp-content/uploads/2021/01/qtq80-N0hCPt.jpeg
END:VEVENT
BEGIN:VEVENT
DTSTART;TZID=America/Chicago:20221121T100000
DTEND;TZID=America/Chicago:20221121T110000
DTSTAMP:20260420T155411
CREATED:20220902T145816Z
LAST-MODIFIED:20220912T232929Z
UID:5153-1669024800-1669028400@lafayettedogtrainer.com
SUMMARY:Puppy Class
DESCRIPTION:This is a 4 week course for puppies ages 10 weeks to 5 months of age. Class meets the same day and time each week for 4 weeks. Each class lasts approximately 1 hour. This class covers housetraining\, socialization\, problem solving for common puppy behavior problems such as jumping\, barking\, mouthing\, chewing\, and digging. Your puppy will learn eye contact\, sit\, down\, come\, stay\, leave it\, loose leash walking\, go to bed. The cost is $155/puppy. \nProof of current vaccinations given by a veterinarian\, a negative fecal\, and flea prevention are needed to attend class. Puppies need 2 rounds of vaccines given by a veterinarian. \nEnroll here:\nhttps://lafayettedogtrainer.com/online-class-registration/
URL:https://lafayettedogtrainer.com/class/puppy-class-25/
LOCATION:Sit Happens Training Center\, 131 James Comeaux Rd\, Lafayette\, LA\, 70508\, United States
ATTACH;FMTTYPE=image/jpeg:https://lafayettedogtrainer.com/wp-content/uploads/2018/02/shutterstock_1472163938-scaled.jpg
END:VEVENT
END:VCALENDAR