BEGIN:VCALENDAR
VERSION:2.0
PRODID:-//Sit Happens - ECPv6.15.20//NONSGML v1.0//EN
CALSCALE:GREGORIAN
METHOD:PUBLISH
X-WR-CALNAME:Sit Happens
X-ORIGINAL-URL:https://lafayettedogtrainer.com
X-WR-CALDESC:Events for Sit Happens
REFRESH-INTERVAL;VALUE=DURATION:PT1H
X-Robots-Tag:noindex
X-PUBLISHED-TTL:PT1H
BEGIN:VTIMEZONE
TZID:America/Chicago
BEGIN:DAYLIGHT
TZOFFSETFROM:-0600
TZOFFSETTO:-0500
TZNAME:CDT
DTSTART:20210314T080000
END:DAYLIGHT
BEGIN:STANDARD
TZOFFSETFROM:-0500
TZOFFSETTO:-0600
TZNAME:CST
DTSTART:20211107T070000
END:STANDARD
BEGIN:DAYLIGHT
TZOFFSETFROM:-0600
TZOFFSETTO:-0500
TZNAME:CDT
DTSTART:20220313T080000
END:DAYLIGHT
BEGIN:STANDARD
TZOFFSETFROM:-0500
TZOFFSETTO:-0600
TZNAME:CST
DTSTART:20221106T070000
END:STANDARD
BEGIN:DAYLIGHT
TZOFFSETFROM:-0600
TZOFFSETTO:-0500
TZNAME:CDT
DTSTART:20230312T080000
END:DAYLIGHT
BEGIN:STANDARD
TZOFFSETFROM:-0500
TZOFFSETTO:-0600
TZNAME:CST
DTSTART:20231105T070000
END:STANDARD
END:VTIMEZONE
BEGIN:VEVENT
DTSTART;TZID=America/Chicago:20221005T183000
DTEND;TZID=America/Chicago:20221005T193000
DTSTAMP:20260420T171207
CREATED:20220902T141714Z
LAST-MODIFIED:20220912T233114Z
UID:5117-1664994600-1664998200@lafayettedogtrainer.com
SUMMARY:Puppy Class
DESCRIPTION:This is a 4 week course for puppies ages 10 weeks to 5 months of age. Class meets the same day and time each week for 4 weeks. Each class lasts approximately 1 hour. This class covers housetraining\, socialization\, problem solving for common puppy behavior problems such as jumping\, barking\, mouthing\, chewing\, and digging. Your puppy will learn eye contact\, sit\, down\, come\, stay\, leave it\, loose leash walking\, go to bed. The cost is $155/puppy. \nProof of current vaccinations given by a veterinarian\, a negative fecal\, and flea prevention are needed to attend class. Puppies need 2 rounds of vaccines given by a veterinarian. \nEnroll here:\nhttps://lafayettedogtrainer.com/online-class-registration/
URL:https://lafayettedogtrainer.com/class/puppy-class-22/
LOCATION:Sit Happens Training Center\, 131 James Comeaux Rd\, Lafayette\, LA\, 70508\, United States
ATTACH;FMTTYPE=image/jpeg:https://lafayettedogtrainer.com/wp-content/uploads/2018/02/shutterstock_1472163938-scaled.jpg
END:VEVENT
BEGIN:VEVENT
DTSTART;TZID=America/Chicago:20221010T100000
DTEND;TZID=America/Chicago:20221010T110000
DTSTAMP:20260420T171207
CREATED:20220902T142002Z
LAST-MODIFIED:20220912T233044Z
UID:5121-1665396000-1665399600@lafayettedogtrainer.com
SUMMARY:Puppy Class
DESCRIPTION:This is a 4 week course for puppies ages 10 weeks to 5 months of age. Class meets the same day and time each week for 4 weeks. Each class lasts approximately 1 hour. This class covers housetraining\, socialization\, problem solving for common puppy behavior problems such as jumping\, barking\, mouthing\, chewing\, and digging. Your puppy will learn eye contact\, sit\, down\, come\, stay\, leave it\, loose leash walking\, go to bed. The cost is $155/puppy. \nProof of current vaccinations given by a veterinarian\, a negative fecal\, and flea prevention are needed to attend class. Puppies need 2 rounds of vaccines given by a veterinarian. \nEnroll here:\nhttps://lafayettedogtrainer.com/online-class-registration/
URL:https://lafayettedogtrainer.com/class/puppy-class-23/
LOCATION:Sit Happens Training Center\, 131 James Comeaux Rd\, Lafayette\, LA\, 70508\, United States
ATTACH;FMTTYPE=image/jpeg:https://lafayettedogtrainer.com/wp-content/uploads/2018/02/shutterstock_1472163938-scaled.jpg
END:VEVENT
BEGIN:VEVENT
DTSTART;TZID=America/Chicago:20221011T183000
DTEND;TZID=America/Chicago:20221011T193000
DTSTAMP:20260420T171207
CREATED:20220902T142226Z
LAST-MODIFIED:20220902T202919Z
UID:5123-1665513000-1665516600@lafayettedogtrainer.com
SUMMARY:Adult Class
DESCRIPTION:This is a 4 week course for dogs and puppies ages 6 months and older. Class meets the same day and time each week for 4 weeks. Each class is approximately 1 hour long. This class covers all foundation cues. You will learn how to effectively train your dog using positive reinforcement methods. We will cover eye contact\, sit\, down\, come\, stay\, leave it\, loose leash walking\, go to bed. The cost is $155/dog. **Adult Class is not designed for socialization. Dogs are not allowed to play during class. \nProof of current vaccinations given by a veterinarian\, a negative fecal\, and flea prevention are needed to attend class. Puppies need 2 rounds of vaccines given by a veterinarian. \nEnroll here:\nhttps://lafayettedogtrainer.com/online-class-registration/
URL:https://lafayettedogtrainer.com/class/adult-class-5/
LOCATION:Sit Happens Training Center\, 131 James Comeaux Rd\, Lafayette\, LA\, 70508\, United States
ATTACH;FMTTYPE=image/jpeg:https://lafayettedogtrainer.com/wp-content/uploads/2021/01/shutterstock_230624386-scaled.jpg
END:VEVENT
BEGIN:VEVENT
DTSTART;TZID=America/Chicago:20221017T110000
DTEND;TZID=America/Chicago:20221017T120000
DTSTAMP:20260420T171207
CREATED:20220902T142648Z
LAST-MODIFIED:20220902T202947Z
UID:5126-1666004400-1666008000@lafayettedogtrainer.com
SUMMARY:Adult Basic Obedience
DESCRIPTION:This is a 4 week course for dogs and puppies ages 6 months and older. Class meets the same day and time each week for 4 weeks. Each class is approximately 1 hour long. This class covers all foundation cues. You will learn how to effectively train your dog using positive reinforcement methods. We will cover eye contact\, sit\, down\, come\, stay\, leave it\, loose leash walking\, go to bed. The cost is $155/dog. **Adult Class is not designed for socialization. Dogs are not allowed to play during class. \nProof of current vaccinations given by a veterinarian\, a negative fecal\, and flea prevention are needed to attend class. Puppies need 2 rounds of vaccines given by a veterinarian. \nEnroll here:\nhttps://lafayettedogtrainer.com/online-class-registration/
URL:https://lafayettedogtrainer.com/class/adult-basic-obedience-11/
LOCATION:Sit Happens Training Center\, 131 James Comeaux Rd\, Lafayette\, LA\, 70508\, United States
ATTACH;FMTTYPE=image/jpeg:https://lafayettedogtrainer.com/wp-content/uploads/2021/01/shutterstock_230624386-scaled.jpg
END:VEVENT
BEGIN:VEVENT
DTSTART;TZID=America/Chicago:20221018T193000
DTEND;TZID=America/Chicago:20221018T203000
DTSTAMP:20260420T171207
CREATED:20220902T142916Z
LAST-MODIFIED:20220902T203014Z
UID:4973-1666121400-1666125000@lafayettedogtrainer.com
SUMMARY:Puppy Play Time
DESCRIPTION:The American Veterinary Society of Animal Behavior recommends early socialization to reduce the risk of developing lifelong fears\, phobias\, and aggression. \nPuppy Play Time is a great way to expose your puppies to different textures\, sounds\, handling skills\, and play in a controlled and safe environment. Puppy Play Time is open to puppies ages 10 weeks to 5 months. The cost is $25/puppy. \nProof of current vaccinations given by a veterinarian\, a negative fecal\, and flea prevention are needed to attend class. Puppies need 2 rounds of vaccines given by a veterinarian. \nEnroll Here: https://lafayettedogtrainer.com/online-class-registration/
URL:https://lafayettedogtrainer.com/class/puppy-play-time-3/
LOCATION:Sit Happens Training Center\, 131 James Comeaux Rd\, Lafayette\, LA\, 70508\, United States
ATTACH;FMTTYPE=image/jpeg:https://lafayettedogtrainer.com/wp-content/uploads/2021/01/qtq80-N0hCPt.jpeg
END:VEVENT
BEGIN:VEVENT
DTSTART;TZID=America/Chicago:20221024T193000
DTEND;TZID=America/Chicago:20221024T203000
DTSTAMP:20260420T171207
CREATED:20220902T143331Z
LAST-MODIFIED:20220902T203057Z
UID:5131-1666639800-1666643400@lafayettedogtrainer.com
SUMMARY:Puppy Play Time
DESCRIPTION:The American Veterinary Society of Animal Behavior recommends early socialization to reduce the risk of developing lifelong fears\, phobias\, and aggression. \nPuppy Play Time is a great way to expose your puppies to different textures\, sounds\, handling skills\, and play in a controlled and safe environment. Puppy Play Time is open to puppies ages 10 weeks to 5 months. The cost is $25/puppy. \nProof of current vaccinations given by a veterinarian\, a negative fecal\, and flea prevention are needed to attend class. Puppies need 2 rounds of vaccines given by a veterinarian. \nEnroll Here: https://lafayettedogtrainer.com/online-class-registration/
URL:https://lafayettedogtrainer.com/class/puppy-play-time-4/
LOCATION:Sit Happens Training Center\, 131 James Comeaux Rd\, Lafayette\, LA\, 70508\, United States
ATTACH;FMTTYPE=image/jpeg:https://lafayettedogtrainer.com/wp-content/uploads/2021/01/qtq80-N0hCPt.jpeg
END:VEVENT
END:VCALENDAR