BEGIN:VCALENDAR
VERSION:2.0
PRODID:-//Sit Happens - ECPv6.15.20//NONSGML v1.0//EN
CALSCALE:GREGORIAN
METHOD:PUBLISH
X-ORIGINAL-URL:https://lafayettedogtrainer.com
X-WR-CALDESC:Events for Sit Happens
REFRESH-INTERVAL;VALUE=DURATION:PT1H
X-Robots-Tag:noindex
X-PUBLISHED-TTL:PT1H
BEGIN:VTIMEZONE
TZID:America/Chicago
BEGIN:DAYLIGHT
TZOFFSETFROM:-0600
TZOFFSETTO:-0500
TZNAME:CDT
DTSTART:20210314T080000
END:DAYLIGHT
BEGIN:STANDARD
TZOFFSETFROM:-0500
TZOFFSETTO:-0600
TZNAME:CST
DTSTART:20211107T070000
END:STANDARD
BEGIN:DAYLIGHT
TZOFFSETFROM:-0600
TZOFFSETTO:-0500
TZNAME:CDT
DTSTART:20220313T080000
END:DAYLIGHT
BEGIN:STANDARD
TZOFFSETFROM:-0500
TZOFFSETTO:-0600
TZNAME:CST
DTSTART:20221106T070000
END:STANDARD
BEGIN:DAYLIGHT
TZOFFSETFROM:-0600
TZOFFSETTO:-0500
TZNAME:CDT
DTSTART:20230312T080000
END:DAYLIGHT
BEGIN:STANDARD
TZOFFSETFROM:-0500
TZOFFSETTO:-0600
TZNAME:CST
DTSTART:20231105T070000
END:STANDARD
END:VTIMEZONE
BEGIN:VEVENT
DTSTART;TZID=America/Chicago:20220315T193000
DTEND;TZID=America/Chicago:20220315T203000
DTSTAMP:20260421T040500
CREATED:20211208T194648Z
LAST-MODIFIED:20211208T194648Z
UID:3585-1647372600-1647376200@lafayettedogtrainer.com
SUMMARY:Adult Basic Obedience
DESCRIPTION:This is a 5 week course for dog’s and puppies ages 6 months and older. Class meets the same day and time each week for 5 weeks. The first class lasts approximately an hour and a half\, the remaining 4 classes will last approximately an hour. \nThis class covers all foundation cues. You will learn how to effectively train your dog using positive reinforcement methods. Class meets the same day and time each week for 5 weeks. This course covers eye contact\, sit\, down\, come\, stay\, leave it\, loose leash walking\, and go to bed. \nProof of current vaccinations given by a veterinarian\, a negative fecal\, and flea prevention are needed to attend class. \n  \nEnroll here:\nhttps://lafayettedogtrainer.com/online-class-registration/
URL:https://lafayettedogtrainer.com/class/adult-basic-obedience-9/
LOCATION:Sit Happens Training Center\, 131 James Comeaux Rd\, Lafayette\, LA\, 70508\, United States
ATTACH;FMTTYPE=image/jpeg:https://lafayettedogtrainer.com/wp-content/uploads/2021/01/shutterstock_230624386-scaled.jpg
END:VEVENT
BEGIN:VEVENT
DTSTART;TZID=America/Chicago:20220317T183000
DTEND;TZID=America/Chicago:20220317T193000
DTSTAMP:20260421T040500
CREATED:20211208T194803Z
LAST-MODIFIED:20211208T194803Z
UID:3587-1647541800-1647545400@lafayettedogtrainer.com
SUMMARY:Puppy Class
DESCRIPTION:This is a 5 week course for puppies ages 10 weeks to 5 months of age. Class meets the same day and time each week for 5 weeks. This course covers house-training\, socialization\, handling for veterinary exams\, problem solving for common behaviors problems such as common problem puppy behaviors such as jumping\, barking\, mouthing\, chewing\, and digging. Your puppy will learn eye contact\, sit\, down\, come\, stay\, leave it\, loose leash walking\, and go to bed. Attend a puppy social and your puppy will be eligible to take their AKC Puppy STAR test and earn a Title!  \nProof of current vaccinations given by a veterinarian\, a negative fecal\, and flea prevention are needed to attend class. Puppies need 2 rounds of vaccinations given by a veterinarian.   \nEnroll here:\nhttps://lafayettedogtrainer.com/online-class-registration/
URL:https://lafayettedogtrainer.com/class/puppy-class-14/
LOCATION:Sit Happens Training Center\, 131 James Comeaux Rd\, Lafayette\, LA\, 70508\, United States
ATTACH;FMTTYPE=image/jpeg:https://lafayettedogtrainer.com/wp-content/uploads/2018/02/shutterstock_1472163938-scaled.jpg
END:VEVENT
END:VCALENDAR