BEGIN:VCALENDAR
VERSION:2.0
PRODID:-//Sit Happens - ECPv6.15.20//NONSGML v1.0//EN
CALSCALE:GREGORIAN
METHOD:PUBLISH
X-WR-CALNAME:Sit Happens
X-ORIGINAL-URL:https://lafayettedogtrainer.com
X-WR-CALDESC:Events for Sit Happens
REFRESH-INTERVAL;VALUE=DURATION:PT1H
X-Robots-Tag:noindex
X-PUBLISHED-TTL:PT1H
BEGIN:VTIMEZONE
TZID:America/Chicago
BEGIN:DAYLIGHT
TZOFFSETFROM:-0600
TZOFFSETTO:-0500
TZNAME:CDT
DTSTART:20200308T080000
END:DAYLIGHT
BEGIN:STANDARD
TZOFFSETFROM:-0500
TZOFFSETTO:-0600
TZNAME:CST
DTSTART:20201101T070000
END:STANDARD
BEGIN:DAYLIGHT
TZOFFSETFROM:-0600
TZOFFSETTO:-0500
TZNAME:CDT
DTSTART:20210314T080000
END:DAYLIGHT
BEGIN:STANDARD
TZOFFSETFROM:-0500
TZOFFSETTO:-0600
TZNAME:CST
DTSTART:20211107T070000
END:STANDARD
BEGIN:DAYLIGHT
TZOFFSETFROM:-0600
TZOFFSETTO:-0500
TZNAME:CDT
DTSTART:20220313T080000
END:DAYLIGHT
BEGIN:STANDARD
TZOFFSETFROM:-0500
TZOFFSETTO:-0600
TZNAME:CST
DTSTART:20221106T070000
END:STANDARD
END:VTIMEZONE
BEGIN:VEVENT
DTSTART;TZID=America/Chicago:20211006T183000
DTEND;TZID=America/Chicago:20211006T193000
DTSTAMP:20260423T123405
CREATED:20210910T203825Z
LAST-MODIFIED:20210910T203825Z
UID:2980-1633545000-1633548600@lafayettedogtrainer.com
SUMMARY:Puppy Class
DESCRIPTION: This is a 5 week course for puppies ages 10 weeks to 5 months of age. Class meets the same day and time each week for 5 weeks. This course covers house-training\, socialization\, handling for veterinary exams\, problem solving for common behaviors problems such as common problem puppy behaviors such as jumping\, barking\, mouthing\, chewing\, and digging. Your puppy will learn eye contact\, sit\, down\, come\, stay\, leave it\, loose leash walking\, and go to bed. Attend a puppy social and your puppy will be eligible to take their AKC Puppy STAR test and earn a Title!  \nProof of current vaccinations given by a veterinarian\, a negative fecal\, and flea prevention are needed to attend class. Puppies need 2 rounds of vaccinations given by a veterinarian.   \nEnroll here:\nhttps://lafayettedogtrainer.com/online-class-registration/
URL:https://lafayettedogtrainer.com/class/puppy-class-8/
LOCATION:LA
ATTACH;FMTTYPE=image/jpeg:https://lafayettedogtrainer.com/wp-content/uploads/2018/02/shutterstock_1472163938-scaled.jpg
END:VEVENT
BEGIN:VEVENT
DTSTART;TZID=America/Chicago:20211012T183000
DTEND;TZID=America/Chicago:20211012T193000
DTSTAMP:20260423T123405
CREATED:20210910T203719Z
LAST-MODIFIED:20210910T203719Z
UID:2978-1634063400-1634067000@lafayettedogtrainer.com
SUMMARY:Adult Basic Obedience
DESCRIPTION:This is a 5 week course for dog’s and puppies ages 6 months and older. Class meets the same day and time each week for 5 weeks. The first class lasts approximately an hour and a half\, the remaining 4 classes will last approximately an hour. \nThis class covers all foundation cues. You will learn how to effectively train your dog using positive reinforcement methods. Class meets the same day and time each week for 5 weeks. This course covers eye contact\, sit\, down\, come\, stay\, leave it\, loose leash walking\, and go to bed. \nProof of current vaccinations given by a veterinarian\, a negative fecal\, and flea prevention are needed to attend class. \n  \nEnroll here:\nhttps://lafayettedogtrainer.com/online-class-registration/
URL:https://lafayettedogtrainer.com/class/adult-basic-obedience-5/
LOCATION:Sit Happens Training Center\, 131 James Comeaux Rd\, Lafayette\, LA\, 70508\, United States
ATTACH;FMTTYPE=image/jpeg:https://lafayettedogtrainer.com/wp-content/uploads/2021/01/shutterstock_230624386-scaled.jpg
END:VEVENT
BEGIN:VEVENT
DTSTART;TZID=America/Chicago:20211030T163000
DTEND;TZID=America/Chicago:20211030T173000
DTSTAMP:20260423T123405
CREATED:20210518T170045Z
LAST-MODIFIED:20210910T204207Z
UID:2062-1635611400-1635615000@lafayettedogtrainer.com
SUMMARY:Puppy Class
DESCRIPTION: This is a 5 week course for puppies ages 10 weeks to 5 months of age. Class meets the same day and time each week for 5 weeks. This course covers house-training\, socialization\, handling for veterinary exams\, problem solving for common behaviors problems such as common problem puppy behaviors such as jumping\, barking\, mouthing\, chewing\, and digging. Your puppy will learn eye contact\, sit\, down\, come\, stay\, leave it\, loose leash walking\, and go to bed. Attend a puppy social and your puppy will be eligible to take their AKC Puppy STAR test and earn a Title!  \nProof of current vaccinations given by a veterinarian\, a negative fecal\, and flea prevention are needed to attend class. Puppies need 2 rounds of vaccinations given by a veterinarian.   \nEnroll here:\nhttps://lafayettedogtrainer.com/online-class-registration/
URL:https://lafayettedogtrainer.com/class/puppy-class-7/
LOCATION:LA
ATTACH;FMTTYPE=image/jpeg:https://lafayettedogtrainer.com/wp-content/uploads/2021/05/shutterstock_1416196679-scaled.jpg
END:VEVENT
END:VCALENDAR